BEGIN:VCALENDAR
VERSION:2.0
PRODID:-//Dublin Presbyterian Church - ECPv6.15.18//NONSGML v1.0//EN
CALSCALE:GREGORIAN
METHOD:PUBLISH
X-ORIGINAL-URL:https://dublinpresbyterian.org
X-WR-CALDESC:Events for Dublin Presbyterian Church
REFRESH-INTERVAL;VALUE=DURATION:PT1H
X-Robots-Tag:noindex
X-PUBLISHED-TTL:PT1H
BEGIN:VTIMEZONE
TZID:UTC
BEGIN:STANDARD
TZOFFSETFROM:+0000
TZOFFSETTO:+0000
TZNAME:UTC
DTSTART:20240101T000000
END:STANDARD
END:VTIMEZONE
BEGIN:VEVENT
DTSTART;TZID=UTC:20251102T091500
DTEND;TZID=UTC:20251102T101500
DTSTAMP:20260423T182823
CREATED:20251029T142503Z
LAST-MODIFIED:20251029T142504Z
UID:330-1762074900-1762078500@dublinpresbyterian.org
SUMMARY:Adult Sunday School
DESCRIPTION:
URL:https://dublinpresbyterian.org/event/adult-sunday-school/
LOCATION:Dublin Presbyterian Church\, 5772 Dublinshire Road\, Dublin\, Ohio\, 43017\, United States
END:VEVENT
END:VCALENDAR